BEGIN:VCALENDAR
VERSION:2.0
PRODID:-//Australian Services Union - ECPv4.9.12//NONSGML v1.0//EN
CALSCALE:GREGORIAN
METHOD:PUBLISH
X-WR-CALNAME:Australian Services Union
X-ORIGINAL-URL:https://calendar.asumembers.org.au
X-WR-CALDESC:Events for Australian Services Union
BEGIN:VTIMEZONE
TZID:UTC
BEGIN:STANDARD
TZOFFSETFROM:+0000
TZOFFSETTO:+0000
TZNAME:UTC
DTSTART:20180101T000000
END:STANDARD
END:VTIMEZONE
BEGIN:VEVENT
DTSTART;TZID=UTC:20180212T080000
DTEND;TZID=UTC:20180212T170000
DTSTAMP:20200228T044728
CREATED:20180211T140714Z
LAST-MODIFIED:20180211T140714Z
UID:87-1518422400-1518454800@calendar.asumembers.org.au
SUMMARY:Travel Meeting
DESCRIPTION:This is a test meeting\nLet’s see if this works \nTravel Meeting
URL:https://calendar.asumembers.org.au/event/travel-meeting/
LOCATION:Canberra\, Canberra\, ACT\, 2601\, Australia
END:VEVENT
END:VCALENDAR