BEGIN:VCALENDAR
VERSION:2.0
PRODID:-//Australian Services Union - ECPv4.9.12//NONSGML v1.0//EN
CALSCALE:GREGORIAN
METHOD:PUBLISH
X-WR-CALNAME:Australian Services Union
X-ORIGINAL-URL:https://calendar.asumembers.org.au
X-WR-CALDESC:Events for Australian Services Union
BEGIN:VTIMEZONE
TZID:UTC
BEGIN:STANDARD
TZOFFSETFROM:+0000
TZOFFSETTO:+0000
TZNAME:UTC
DTSTART:20180101T000000
END:STANDARD
END:VTIMEZONE
BEGIN:VEVENT
DTSTART;TZID=UTC:20180314T080000
DTEND;TZID=UTC:20180314T170000
DTSTAMP:20200228T044937
CREATED:20180308T192949Z
LAST-MODIFIED:20180308T222008Z
UID:130-1521014400-1521046800@calendar.asumembers.org.au
SUMMARY:Test
DESCRIPTION:test instructions \nTest
URL:https://calendar.asumembers.org.au/event/test/
LOCATION:Canberra\, Canberra\, ACT\, 2601\, Australia
CATEGORIES:IT
ORGANIZER;CN="Alex%20Marsh":MAILTO:amarsh@asu.org.au
END:VEVENT
END:VCALENDAR