BEGIN:VCALENDAR
VERSION:2.0
PRODID:-//Australian Services Union - ECPv4.9.12//NONSGML v1.0//EN
CALSCALE:GREGORIAN
METHOD:PUBLISH
X-WR-CALNAME:Australian Services Union
X-ORIGINAL-URL:https://calendar.asumembers.org.au
X-WR-CALDESC:Events for Australian Services Union
BEGIN:VTIMEZONE
TZID:Australia/Sydney
BEGIN:STANDARD
TZOFFSETFROM:+1100
TZOFFSETTO:+1000
TZNAME:AEST
DTSTART:20190406T160000
END:STANDARD
BEGIN:DAYLIGHT
TZOFFSETFROM:+1000
TZOFFSETTO:+1100
TZNAME:AEDT
DTSTART:20191005T160000
END:DAYLIGHT
END:VTIMEZONE
BEGIN:VEVENT
DTSTART;TZID=Australia/Sydney:20190505T110000
DTEND;TZID=Australia/Sydney:20190505T180000
DTSTAMP:20210301T032114
CREATED:20190408T062726Z
LAST-MODIFIED:20190411T004928Z
UID:202-1557054000-1557079200@calendar.asumembers.org.au
SUMMARY:May Day Sydney 2019
DESCRIPTION:May Day Rally – March on Sydney! \nJoin us for May Day on May 5th to celebrate the achievements of the union movement and to fight for our future. \nOur government has stacked the system against working people for far too long and it’s time for us all to stand up for a fair go. \nHear from the leaders of our powerful movement\, Mark Morey and Sally McManus\, about why we need to change the Government to Change the Rules. \nWe need to march for our future because: \nInsecure work has reached record highs\,\nWage growth has stagnated while the cost of living is soaring\,\nThe gender pay gap is growing\, and\nOur TAFES have been pulled apart – our schools underfunded. \nThis government has destroyed the fair go in Australia. It’s time for us to take a stand. \nJoin us after the march for an afternoon of stalls\, free rides\, food\, and entertainment at the May Day Festival at Prince Alfred Park. \nBring your family & friends and let’s Change the Rules. \n
URL:https://calendar.asumembers.org.au/event/may-day-rally-2019/
LOCATION:Hyde Park\, Elizabeth Street\, Sydney\, NSW\, Elizabeth S2000\, Australia
CATEGORIES:ASU All
ATTACH;FMTTYPE=image/jpeg:https://calendar.asumembers.org.au/wp-content/uploads/2019/04/55865238_2269778983086327_2806192538690519040_o.jpg
ORGANIZER;CN="Alex%20Marsh":MAILTO:amarsh@asu.org.au
END:VEVENT
END:VCALENDAR