BEGIN:VCALENDAR
VERSION:2.0
PRODID:-//Australian Services Union - ECPv4.9.12//NONSGML v1.0//EN
CALSCALE:GREGORIAN
METHOD:PUBLISH
X-WR-CALNAME:Australian Services Union
X-ORIGINAL-URL:https://calendar.asumembers.org.au
X-WR-CALDESC:Events for Australian Services Union
BEGIN:VTIMEZONE
TZID:Australia/Sydney
BEGIN:STANDARD
TZOFFSETFROM:+1100
TZOFFSETTO:+1000
TZNAME:AEST
DTSTART:20190406T160000
END:STANDARD
BEGIN:DAYLIGHT
TZOFFSETFROM:+1000
TZOFFSETTO:+1100
TZNAME:AEDT
DTSTART:20191005T160000
END:DAYLIGHT
END:VTIMEZONE
BEGIN:VEVENT
DTSTART;TZID=Australia/Sydney:20190504T100000
DTEND;TZID=Australia/Sydney:20190504T180000
DTSTAMP:20210301T032104
CREATED:20190408T062726Z
LAST-MODIFIED:20190429T234225Z
UID:7338-1556964000-1556992800@calendar.asumembers.org.au
SUMMARY:May Day Rally & March Wollongong 2019
DESCRIPTION:This May Day Wollongong workers are coming together in solidarity to fight for our rights. We’re facing attacks on many fronts\, from the appalling lock-outs by Port Kembla Coal Terminal management\, rampant wage theft in hospitality\, casualisation at UOW and across industries\, and industrial campaigns at the Steelworks and in the coal mines. Our nurses are fighting for decent patient ratios and our early educators have been striking against the sexist gender pay gap. Our struggle is one of the whole working class – solidarity across industries has always been our strength in #UnionTown \nJoin the Wollongong May Day rally at 10am meeting at Lowden Square (near Wollongong Train Station). We’ll be taking our message to the streets with a March through Wollongong to Crown St Mall. \nThe system is rigged for the 1%. Australian workers face some of the worst anti-union legislation. We need to #ChangeTheRules but to do that we need mass collective action. \nMay Day is a day of solidarity between the international working class. Our labour makes the world run. Without our work not a cent of profit would be made. Yet we face rampant inequality with the 26 individuals hoarding the same wealth as 3.6 billion people globally. Trickle down economics was a lie\, the system is failing\, it’s time to unite in solidarity & fight back! \n
URL:https://calendar.asumembers.org.au/event/wollongong-may-day-rally-2019/
LOCATION:Lowden Square\, Lowden Square\, Wollongong\, NSW\, 2500\, Australia
CATEGORIES:ASU All
ATTACH;FMTTYPE=image/png:https://calendar.asumembers.org.au/wp-content/uploads/2019/04/gong-mayday.png
ORGANIZER;CN="Alex%20Marsh":MAILTO:amarsh@asu.org.au
END:VEVENT
END:VCALENDAR