BEGIN:VCALENDAR
VERSION:2.0
PRODID:-//Australian Services Union - ECPv4.9.12//NONSGML v1.0//EN
CALSCALE:GREGORIAN
METHOD:PUBLISH
X-WR-CALNAME:Australian Services Union
X-ORIGINAL-URL:https://calendar.asumembers.org.au
X-WR-CALDESC:Events for Australian Services Union
BEGIN:VTIMEZONE
TZID:Australia/Sydney
BEGIN:STANDARD
TZOFFSETFROM:+1100
TZOFFSETTO:+1000
TZNAME:AEST
DTSTART:20190406T160000
END:STANDARD
BEGIN:DAYLIGHT
TZOFFSETFROM:+1000
TZOFFSETTO:+1100
TZNAME:AEDT
DTSTART:20191005T160000
END:DAYLIGHT
TZID:UTC
BEGIN:STANDARD
TZOFFSETFROM:+0000
TZOFFSETTO:+0000
TZNAME:UTC
DTSTART:20190101T000000
END:STANDARD
END:VTIMEZONE
BEGIN:VEVENT
DTSTART;TZID=Australia/Sydney:20190417T133000
DTEND;TZID=Australia/Sydney:20190417T143000
DTSTAMP:20210301T033848
CREATED:20190413T104607Z
LAST-MODIFIED:20190413T105233Z
UID:231-1555507800-1555511400@calendar.asumembers.org.au
SUMMARY:NDIS Training Teleconference
DESCRIPTION:Dial into our ASU member teleconference to hear about our campaign for a Portable Training Entitlement for all NDIS Workers. \nOur plan involves: \n\nFree induction courses\, free certificate III and FREE ongoing professional development for all NDIS workers\,\nNo course costs\, AND being paid for your time to complete your study so you don’t have to choose between a shift or further training to gain specialisation and career path in the NDIS\,\nIt will apply to ALL NDIS workers and for all of your NDIS work – whether you work for multiple employers or as a sole trader.\n\n
URL:https://calendar.asumembers.org.au/event/ndis-training-teleconference/
CATEGORIES:Community and Disability Services
ORGANIZER;CN="Tom%20Patton":MAILTO:tom@asu.org.au
END:VEVENT
BEGIN:VEVENT
DTSTART;TZID=UTC:20190417T173000
DTEND;TZID=UTC:20190417T193000
DTSTAMP:20210301T033848
CREATED:20190407T173310Z
LAST-MODIFIED:20190407T175258Z
UID:178-1555522200-1555529400@calendar.asumembers.org.au
SUMMARY:Northern Region Sub Branch
DESCRIPTION:We’ve talked about what needs to change for the best NDIS and a civil society. Now we’re taking action to get a better deal for social and community services in the Clarence Valley \nBe at our next ASU sub branch meeting to find out how to get the #BestNDIS\, change the government and #ChangeTheRules \n
URL:https://calendar.asumembers.org.au/event/northern-region-sub-branch/
LOCATION:Grafton Hotel\, 97 Fitzroy Street\, Grafton\, NSW\, 2460\, Australia
ORGANIZER;CN="Naomi%20Worrall":MAILTO:naomiw@asu.org.au
END:VEVENT
END:VCALENDAR